0.14397705816420
0.00257035452532
0.00257035452532
-0.14397705816420
5553208.22062779120000
5106597.43339984120000
